BEGIN:VCALENDAR
VERSION:2.0
PRODID:-//Tukios.com/
BEGIN:VEVENT
UID:0faaff5e-3e8d-4bf1-afd1-b68bf282739d@www.faithfuneralhome.com
DTSTAMP:20260424T215607Z
DTSTART:20260502T150000Z
DTEND:20260502T160000Z
SUMMARY:Memorial Service
DESCRIPTION:
URL:https://www.faithfuneralhome.com/obituaries/linda-key
LOCATION:The Gathering Church 12748 U.S. 19  Thomasville GA 31757
GEO:30.824801;-83.940254
END:VEVENT
END:VCALENDAR