BEGIN:VCALENDAR
VERSION:2.0
PRODID:-//Tukios.com/
BEGIN:VEVENT
UID:4a2c5891-6fa9-417e-8e75-9d54bb94e0e3@www.faithfuneralhome.com
DTSTAMP:20260424T215505Z
DTSTART:20260502T140000Z
DTEND:20260502T150000Z
SUMMARY:Visitation
DESCRIPTION:
URL:https://www.faithfuneralhome.com/obituaries/linda-key
LOCATION:The Gathering Church 12748 U.S. 19  Thomasville GA 31757
GEO:30.824801;-83.940254
END:VEVENT
END:VCALENDAR